Workbook

Sheet Schemes & claims
A1: Brand scheme & claim tracker — for retailers
A2: Every scheme you are on, how close you are to the target, and what the brand still owes you.
A3: Free template from retaileros.in. RetailerOS does all of this automatically on every bill: free for 50 bills a month, no card needed. retaileros.in
A4: Brand | B4: Scheme name | C4: Type | D4: Models / category | E4: Start | F4: End | G4: Target (units) | H4: Target (₹) | I4: Sold (units) | J4: Sold (₹) | K4: % of target | L4: Payout expected (₹) | M4: Claim filed on | N4: Claim amount (₹) | O4: Received (₹) | P4: Received on | Q4: Pending (₹) | R4: Status | S4: Notes
K5: =IF(A5="","",IF(N(G5)>0,I5/G5,IF(N(H5)>0,J5/H5,""))) | Q5: =IF(A5="","",N(N5)-N(O5)) | R5: =IF(A5="","",IF(AND(N(N5)>0,N(O5)>=N(N5)),"Settled",IF(N(N5)>0,"Claim pending",IF(AND(F5<>"",F5<TODAY()),"Ended — file claim","Running"))))
K6: =IF(A6="","",IF(N(G6)>0,I6/G6,IF(N(H6)>0,J6/H6,""))) | Q6: =IF(A6="","",N(N6)-N(O6)) | R6: =IF(A6="","",IF(AND(N(N6)>0,N(O6)>=N(N6)),"Settled",IF(N(N6)>0,"Claim pending",IF(AND(F6<>"",F6<TODAY()),"Ended — file claim","Running"))))
K7: =IF(A7="","",IF(N(G7)>0,I7/G7,IF(N(H7)>0,J7/H7,""))) | Q7: =IF(A7="","",N(N7)-N(O7)) | R7: =IF(A7="","",IF(AND(N(N7)>0,N(O7)>=N(N7)),"Settled",IF(N(N7)>0,"Claim pending",IF(AND(F7<>"",F7<TODAY()),"Ended — file claim","Running"))))
K8: =IF(A8="","",IF(N(G8)>0,I8/G8,IF(N(H8)>0,J8/H8,""))) | Q8: =IF(A8="","",N(N8)-N(O8)) | R8: =IF(A8="","",IF(AND(N(N8)>0,N(O8)>=N(N8)),"Settled",IF(N(N8)>0,"Claim pending",IF(AND(F8<>"",F8<TODAY()),"Ended — file claim","Running"))))
K9: =IF(A9="","",IF(N(G9)>0,I9/G9,IF(N(H9)>0,J9/H9,""))) | Q9: =IF(A9="","",N(N9)-N(O9)) | R9: =IF(A9="","",IF(AND(N(N9)>0,N(O9)>=N(N9)),"Settled",IF(N(N9)>0,"Claim pending",IF(AND(F9<>"",F9<TODAY()),"Ended — file claim","Running"))))
K10: =IF(A10="","",IF(N(G10)>0,I10/G10,IF(N(H10)>0,J10/H10,""))) | Q10: =IF(A10="","",N(N10)-N(O10)) | R10: =IF(A10="","",IF(AND(N(N10)>0,N(O10)>=N(N10)),"Settled",IF(N(N10)>0,"Claim pending",IF(AND(F10<>"",F10<TODAY()),"Ended — file claim","Running"))))
K11: =IF(A11="","",IF(N(G11)>0,I11/G11,IF(N(H11)>0,J11/H11,""))) | Q11: =IF(A11="","",N(N11)-N(O11)) | R11: =IF(A11="","",IF(AND(N(N11)>0,N(O11)>=N(N11)),"Settled",IF(N(N11)>0,"Claim pending",IF(AND(F11<>"",F11<TODAY()),"Ended — file claim","Running"))))
K12: =IF(A12="","",IF(N(G12)>0,I12/G12,IF(N(H12)>0,J12/H12,""))) | Q12: =IF(A12="","",N(N12)-N(O12)) | R12: =IF(A12="","",IF(AND(N(N12)>0,N(O12)>=N(N12)),"Settled",IF(N(N12)>0,"Claim pending",IF(AND(F12<>"",F12<TODAY()),"Ended — file claim","Running"))))
K13: =IF(A13="","",IF(N(G13)>0,I13/G13,IF(N(H13)>0,J13/H13,""))) | Q13: =IF(A13="","",N(N13)-N(O13)) | R13: =IF(A13="","",IF(AND(N(N13)>0,N(O13)>=N(N13)),"Settled",IF(N(N13)>0,"Claim pending",IF(AND(F13<>"",F13<TODAY()),"Ended — file claim","Running"))))
K14: =IF(A14="","",IF(N(G14)>0,I14/G14,IF(N(H14)>0,J14/H14,""))) | Q14: =IF(A14="","",N(N14)-N(O14)) | R14: =IF(A14="","",IF(AND(N(N14)>0,N(O14)>=N(N14)),"Settled",IF(N(N14)>0,"Claim pending",IF(AND(F14<>"",F14<TODAY()),"Ended — file claim","Running"))))
K15: =IF(A15="","",IF(N(G15)>0,I15/G15,IF(N(H15)>0,J15/H15,""))) | Q15: =IF(A15="","",N(N15)-N(O15)) | R15: =IF(A15="","",IF(AND(N(N15)>0,N(O15)>=N(N15)),"Settled",IF(N(N15)>0,"Claim pending",IF(AND(F15<>"",F15<TODAY()),"Ended — file claim","Running"))))
K16: =IF(A16="","",IF(N(G16)>0,I16/G16,IF(N(H16)>0,J16/H16,""))) | Q16: =IF(A16="","",N(N16)-N(O16)) | R16: =IF(A16="","",IF(AND(N(N16)>0,N(O16)>=N(N16)),"Settled",IF(N(N16)>0,"Claim pending",IF(AND(F16<>"",F16<TODAY()),"Ended — file claim","Running"))))
... K300: =IF(A300="","",IF(N(G300)>0,I300/G300,IF(N(H300)>0,J300/H300,""))) | Q300: =IF(A300="","",N(N300)-N(O300)) | R300: =IF(A300="","",IF(AND(N(N300)>0,N(O300)>=N(N300)),"Settled",IF(N(N300)>0,"Claim pending",IF(AND(F300<>"",F300<TODAY()),"Ended — file claim","Running"))))

Sheet By brand
A1: What each brand owes you
A2: Type the brand names you deal with.
A4: Brand | B4: Schemes | C4: Claimed (₹) | D4: Still pending (₹)
A5: Samsung | B5: =IF(A5="","",COUNTIF('Schemes & claims'!A:A,A5)) | C5: =IF(A5="","",SUMIF('Schemes & claims'!A:A,A5,'Schemes & claims'!N:N)) | D5: =IF(A5="","",SUMIF('Schemes & claims'!A:A,A5,'Schemes & claims'!Q:Q))
A6: vivo | B6: =IF(A6="","",COUNTIF('Schemes & claims'!A:A,A6)) | C6: =IF(A6="","",SUMIF('Schemes & claims'!A:A,A6,'Schemes & claims'!N:N)) | D6: =IF(A6="","",SUMIF('Schemes & claims'!A:A,A6,'Schemes & claims'!Q:Q))
A7: OPPO | B7: =IF(A7="","",COUNTIF('Schemes & claims'!A:A,A7)) | C7: =IF(A7="","",SUMIF('Schemes & claims'!A:A,A7,'Schemes & claims'!N:N)) | D7: =IF(A7="","",SUMIF('Schemes & claims'!A:A,A7,'Schemes & claims'!Q:Q))
A8: Xiaomi | B8: =IF(A8="","",COUNTIF('Schemes & claims'!A:A,A8)) | C8: =IF(A8="","",SUMIF('Schemes & claims'!A:A,A8,'Schemes & claims'!N:N)) | D8: =IF(A8="","",SUMIF('Schemes & claims'!A:A,A8,'Schemes & claims'!Q:Q))
A9: realme | B9: =IF(A9="","",COUNTIF('Schemes & claims'!A:A,A9)) | C9: =IF(A9="","",SUMIF('Schemes & claims'!A:A,A9,'Schemes & claims'!N:N)) | D9: =IF(A9="","",SUMIF('Schemes & claims'!A:A,A9,'Schemes & claims'!Q:Q))
A10: Apple | B10: =IF(A10="","",COUNTIF('Schemes & claims'!A:A,A10)) | C10: =IF(A10="","",SUMIF('Schemes & claims'!A:A,A10,'Schemes & claims'!N:N)) | D10: =IF(A10="","",SUMIF('Schemes & claims'!A:A,A10,'Schemes & claims'!Q:Q))
A11: OnePlus | B11: =IF(A11="","",COUNTIF('Schemes & claims'!A:A,A11)) | C11: =IF(A11="","",SUMIF('Schemes & claims'!A:A,A11,'Schemes & claims'!N:N)) | D11: =IF(A11="","",SUMIF('Schemes & claims'!A:A,A11,'Schemes & claims'!Q:Q))
A12: Motorola | B12: =IF(A12="","",COUNTIF('Schemes & claims'!A:A,A12)) | C12: =IF(A12="","",SUMIF('Schemes & claims'!A:A,A12,'Schemes & claims'!N:N)) | D12: =IF(A12="","",SUMIF('Schemes & claims'!A:A,A12,'Schemes & claims'!Q:Q))
B13: =IF(A13="","",COUNTIF('Schemes & claims'!A:A,A13)) | C13: =IF(A13="","",SUMIF('Schemes & claims'!A:A,A13,'Schemes & claims'!N:N)) | D13: =IF(A13="","",SUMIF('Schemes & claims'!A:A,A13,'Schemes & claims'!Q:Q))
B14: =IF(A14="","",COUNTIF('Schemes & claims'!A:A,A14)) | C14: =IF(A14="","",SUMIF('Schemes & claims'!A:A,A14,'Schemes & claims'!N:N)) | D14: =IF(A14="","",SUMIF('Schemes & claims'!A:A,A14,'Schemes & claims'!Q:Q))
B15: =IF(A15="","",COUNTIF('Schemes & claims'!A:A,A15)) | C15: =IF(A15="","",SUMIF('Schemes & claims'!A:A,A15,'Schemes & claims'!N:N)) | D15: =IF(A15="","",SUMIF('Schemes & claims'!A:A,A15,'Schemes & claims'!Q:Q))
B16: =IF(A16="","",COUNTIF('Schemes & claims'!A:A,A16)) | C16: =IF(A16="","",SUMIF('Schemes & claims'!A:A,A16,'Schemes & claims'!N:N)) | D16: =IF(A16="","",SUMIF('Schemes & claims'!A:A,A16,'Schemes & claims'!Q:Q))
A18: Free template from retaileros.in. RetailerOS does all of this automatically on every bill: free for 50 bills a month, no card needed. retaileros.in
